BEGIN:VCALENDAR
VERSION:2.0
PRODID:spatie/icalendar-generator
DESCRIPTION:Veranstaltungen von Die Grünen Neustadt Weinstrasse
X-WR-CALDESC:Veranstaltungen von Die Grünen Neustadt Weinstrasse
REFRESH-INTERVAL;VALUE=DURATION:PT1440M
X-PUBLISHED-TTL:PT1440M
BEGIN:VTIMEZONE
TZID:Europe/Berlin
BEGIN:STANDARD
DTSTART:20241027T030000Z
TZOFFSETFROM:+0200
TZOFFSETTO:+0100
END:STANDARD
BEGIN:DAYLIGHT
DTSTART:20250330T020000Z
TZOFFSETFROM:+0100
TZOFFSETTO:+0200
END:DAYLIGHT
BEGIN:STANDARD
DTSTART:20251026T030000Z
TZOFFSETFROM:+0200
TZOFFSETTO:+0100
END:STANDARD
END:VTIMEZONE
BEGIN:VTIMEZONE
TZID:UTC
BEGIN:STANDARD
DTSTART:20250729T163441Z
TZOFFSETFROM:+0000
TZOFFSETTO:+0000
END:STANDARD
END:VTIMEZONE
BEGIN:VEVENT
UID:45-9
DTSTAMP:20260425T163441Z
SUMMARY:Arbeitsgemeinschaft Grün in die Stadt
LOCATION:Grünes Büro Stangenbrunnengasse 15  Neustadt an der Weinstraße 
 Rheinland-Pfalz
ORGANIZER;CN=marco:MAILTO:marco.schmider@kabelmail.de
DTSTART;TZID=Europe/Berlin:20250626T183000
DTEND;TZID=Europe/Berlin:20250626T203100
X-ALT-DESC;FMTTYPE=TEXT/HTML:
CATEGORIES:Arbeitsgemeinschaft
URL;VALUE=URI:https://gruene-nw.de/mc-events/arbeitsgemeinschaft-gruen-in-d
 ie-stadt/
METHOD:PUBLISH
END:VEVENT
END:VCALENDAR